BEGIN:VCALENDAR
VERSION:2.0
PRODID:-//Lake Monticello Golf - ECPv6.15.18//NONSGML v1.0//EN
CALSCALE:GREGORIAN
METHOD:PUBLISH
X-WR-CALNAME:Lake Monticello Golf
X-ORIGINAL-URL:https://www.lakemonticellogolf.org
X-WR-CALDESC:Events for Lake Monticello Golf
REFRESH-INTERVAL;VALUE=DURATION:PT1H
X-Robots-Tag:noindex
X-PUBLISHED-TTL:PT1H
BEGIN:VTIMEZONE
TZID:UTC
BEGIN:STANDARD
TZOFFSETFROM:+0000
TZOFFSETTO:+0000
TZNAME:UTC
DTSTART:20250101T000000
END:STANDARD
END:VTIMEZONE
BEGIN:VEVENT
DTSTART;TZID=UTC:20260402T163000
DTEND;TZID=UTC:20260402T173000
DTSTAMP:20260422T090554
CREATED:20260129T191216Z
LAST-MODIFIED:20260129T191220Z
UID:10000013-1775147400-1775151000@www.lakemonticellogolf.org
SUMMARY:2026 Junior PGA - Golf Prep Program
DESCRIPTION:Classes will be Tuesdays 14\, 21\, 28 and Thursdays 2\, 9\, 16. \n\n\n\nGet Ready for LMGC Jr. League Season! Jr. League is one of the top programs for young golferslearning the game. With the LMGC Spring/Summer Season beginning in May\, this prep program is designed to give juniors the scoring skills\, confidence\, and course knowledge they need to compete at their best. \n\n\n\n$125 per Student \n\n\n\n\n\n\n\n\n\n\n\n\n\n\n\n\n\n\n\n\n\nJUNIOR PGA – GOLF PREP PROGRAMDownload
URL:https://www.lakemonticellogolf.org/event/2026-junior-pga-golf-prep-program/
END:VEVENT
END:VCALENDAR