BEGIN:VCALENDAR
VERSION:2.0
PRODID:-//Lake Monticello Golf - ECPv6.15.18//NONSGML v1.0//EN
CALSCALE:GREGORIAN
METHOD:PUBLISH
X-ORIGINAL-URL:https://www.lakemonticellogolf.org
X-WR-CALDESC:Events for Lake Monticello Golf
REFRESH-INTERVAL;VALUE=DURATION:PT1H
X-Robots-Tag:noindex
X-PUBLISHED-TTL:PT1H
BEGIN:VTIMEZONE
TZID:UTC
BEGIN:STANDARD
TZOFFSETFROM:+0000
TZOFFSETTO:+0000
TZNAME:UTC
DTSTART:20250101T000000
END:STANDARD
END:VTIMEZONE
BEGIN:VEVENT
DTSTART;TZID=UTC:20260509T123000
DTEND;TZID=UTC:20260509T143000
DTSTAMP:20260422T105008
CREATED:20260131T183955Z
LAST-MODIFIED:20260131T183957Z
UID:10000039-1778329800-1778337000@www.lakemonticellogolf.org
SUMMARY:Free Driver Clinic
DESCRIPTION:DRIVE STRAIGHT INTO THE FAIRWAYS!Join us for a FREE clinic designed to help you hit longer\, straighter\,and more confident drives.Whether you struggle with slices\, hooks\, or consistency\, this sessionwill give you the keys to better tee shots. \n\n\n\nWHAT YOU’LL LEARN✓ Proper setup for consistent drives✓ How to square the clubface✓ Increasing distance without swinging harder✓ Tee height\, ball position & alignment tips✓ Personalized swing feedback \n\n\n\nFREE DRIVER CLINICDownload
URL:https://www.lakemonticellogolf.org/event/free-driver-clinic/
LOCATION:Lake Monticello Golf Course\, 51 Bunker Blvd\, Palmyra\, Virginia\, 22963\, United States
END:VEVENT
END:VCALENDAR