BEGIN:VCALENDAR
VERSION:2.0
PRODID:-//Lake Monticello Golf - ECPv6.15.18//NONSGML v1.0//EN
CALSCALE:GREGORIAN
METHOD:PUBLISH
X-ORIGINAL-URL:https://www.lakemonticellogolf.org
X-WR-CALDESC:Events for Lake Monticello Golf
REFRESH-INTERVAL;VALUE=DURATION:PT1H
X-Robots-Tag:noindex
X-PUBLISHED-TTL:PT1H
BEGIN:VTIMEZONE
TZID:UTC
BEGIN:STANDARD
TZOFFSETFROM:+0000
TZOFFSETTO:+0000
TZNAME:UTC
DTSTART:20250101T000000
END:STANDARD
END:VTIMEZONE
BEGIN:VEVENT
DTSTART;TZID=UTC:20260617T163000
DTEND;TZID=UTC:20260617T173000
DTSTAMP:20260422T121247
CREATED:20260129T203340Z
LAST-MODIFIED:20260129T203355Z
UID:10000016-1781713800-1781717400@www.lakemonticellogolf.org
SUMMARY:2026 Competitive Golf Development Program
DESCRIPTION:Designed for players looking to advance in the golf world—whether through high school golf or tournament play—this program focuses on both game improvement and mental preparation for competition. \n\n\n\nEach week includes:. One Wednesday Group Clinic from 4:30pm to 5:30pm June 17th\, 24th\, July 8th. One Private Lesson (scheduled that same week). One Tournament-Style 9-Hole Match on Saturdays at 4:00pm (Greens fees and range balls included) June 20th\, 27th\, July 11th \n\n\n\nTo prepare you for competition we will be improving on the following. Course management\, swing mechanics\, golfrules and etiquette\, and most importantly a good mental game. These are the 4 things that make a good golfer. \n\n\n\n$100 Per week – Choose week 1\, 2\, 3\, or Multiple \n\n\n\n\n\n\n\n\n\nCompetitive Golf Development Program 2026Download
URL:https://www.lakemonticellogolf.org/event/2026-competitive-golf-development-program/
LOCATION:Lake Monticello Golf Course\, 51 Bunker Blvd\, Palmyra\, Virginia\, 22963\, United States
END:VEVENT
END:VCALENDAR