BEGIN:VCALENDAR
VERSION:2.0
PRODID:-//Lake Monticello Golf - ECPv6.15.18//NONSGML v1.0//EN
CALSCALE:GREGORIAN
METHOD:PUBLISH
X-WR-CALNAME:Lake Monticello Golf
X-ORIGINAL-URL:https://www.lakemonticellogolf.org
X-WR-CALDESC:Events for Lake Monticello Golf
REFRESH-INTERVAL;VALUE=DURATION:PT1H
X-Robots-Tag:noindex
X-PUBLISHED-TTL:PT1H
BEGIN:VTIMEZONE
TZID:UTC
BEGIN:STANDARD
TZOFFSETFROM:+0000
TZOFFSETTO:+0000
TZNAME:UTC
DTSTART:20250101T000000
END:STANDARD
END:VTIMEZONE
BEGIN:VEVENT
DTSTART;TZID=UTC:20260822T083000
DTEND;TZID=UTC:20260823T143000
DTSTAMP:20260422T190907
CREATED:20260131T211007Z
LAST-MODIFIED:20260210T173748Z
UID:10000053-1787387400-1787495400@www.lakemonticellogolf.org
SUMMARY:Member - Member Championship
DESCRIPTION:Course closed from 8:00am – 12:30pm. Start time is 8:30am Saturday and Sunday. \n\n\n\nFormat: Four- Ball (better ball of 2) \n\n\n\nOpen to all LMOA property owners and Golf contract holders. \n\n\n\nEntry Form
URL:https://www.lakemonticellogolf.org/event/member-member-scramble/
LOCATION:Lake Monticello Golf Course\, 51 Bunker Blvd\, Palmyra\, Virginia\, 22963\, United States
END:VEVENT
END:VCALENDAR