BEGIN:VCALENDAR
VERSION:2.0
PRODID:-//Lake Monticello Golf - ECPv6.15.18//NONSGML v1.0//EN
CALSCALE:GREGORIAN
METHOD:PUBLISH
X-WR-CALNAME:Lake Monticello Golf
X-ORIGINAL-URL:https://www.lakemonticellogolf.org
X-WR-CALDESC:Events for Lake Monticello Golf
REFRESH-INTERVAL;VALUE=DURATION:PT1H
X-Robots-Tag:noindex
X-PUBLISHED-TTL:PT1H
BEGIN:VTIMEZONE
TZID:UTC
BEGIN:STANDARD
TZOFFSETFROM:+0000
TZOFFSETTO:+0000
TZNAME:UTC
DTSTART:20240101T000000
END:STANDARD
END:VTIMEZONE
BEGIN:VEVENT
DTSTART;TZID=UTC:20251004T100000
DTEND;TZID=UTC:20251004T170000
DTSTAMP:20260420T141730
CREATED:20251001T074509Z
LAST-MODIFIED:20251001T074510Z
UID:10000003-1759572000-1759597200@www.lakemonticellogolf.org
SUMMARY:Around The Green & Full Swing ~ Junior Clinics
DESCRIPTION:Click Here To View All Clinics
URL:https://www.lakemonticellogolf.org/event/around-the-green-full-swing-junior-clinics/
LOCATION:Virginia
END:VEVENT
BEGIN:VEVENT
DTSTART;TZID=UTC:20251003T100000
DTEND;TZID=UTC:20251003T170000
DTSTAMP:20260420T141730
CREATED:20251001T074340Z
LAST-MODIFIED:20251001T074342Z
UID:10000002-1759485600-1759510800@www.lakemonticellogolf.org
SUMMARY:Putting & Around The Green ~ Junior Clinic
DESCRIPTION:Click Here To View All Clinics
URL:https://www.lakemonticellogolf.org/event/putting-around-the-green-junior-clinic/
LOCATION:Virginia
END:VEVENT
BEGIN:VEVENT
DTSTART;TZID=UTC:20251001T070000
DTEND;TZID=UTC:20251002T170000
DTSTAMP:20260420T141730
CREATED:20251001T074234Z
LAST-MODIFIED:20251001T074236Z
UID:10000001-1759302000-1759424400@www.lakemonticellogolf.org
SUMMARY:Greens Aeration
DESCRIPTION:Greens Aeration October 1-2! Please be advised 9-holes will be closed each day.
URL:https://www.lakemonticellogolf.org/event/greens-aeration/
LOCATION:Virginia
END:VEVENT
END:VCALENDAR