BEGIN:VCALENDAR
VERSION:2.0
PRODID:-//Lake Monticello Golf - ECPv6.15.18//NONSGML v1.0//EN
CALSCALE:GREGORIAN
METHOD:PUBLISH
X-ORIGINAL-URL:https://www.lakemonticellogolf.org
X-WR-CALDESC:Events for Lake Monticello Golf
REFRESH-INTERVAL;VALUE=DURATION:PT1H
X-Robots-Tag:noindex
X-PUBLISHED-TTL:PT1H
BEGIN:VTIMEZONE
TZID:UTC
BEGIN:STANDARD
TZOFFSETFROM:+0000
TZOFFSETTO:+0000
TZNAME:UTC
DTSTART:20250101T000000
END:STANDARD
END:VTIMEZONE
BEGIN:VEVENT
DTSTART;TZID=UTC:20260806T110000
DTEND;TZID=UTC:20260806T200000
DTSTAMP:20260422T134445
CREATED:20260131T210621Z
LAST-MODIFIED:20260131T210624Z
UID:10000052-1786014000-1786046400@www.lakemonticellogolf.org
SUMMARY:George Bockman HS Invitational
DESCRIPTION:Course Closed From 10:30 – 3:00. Teetimes for our local high school teams will start at 11am.
URL:https://www.lakemonticellogolf.org/event/george-bockman-hs-invitational/
LOCATION:Lake Monticello Golf Course\, 51 Bunker Blvd\, Palmyra\, Virginia\, 22963\, United States
END:VEVENT
BEGIN:VEVENT
DTSTART;TZID=UTC:20260808T090000
DTEND;TZID=UTC:20260808T100000
DTSTAMP:20260422T134445
CREATED:20260130T183829Z
LAST-MODIFIED:20260226T184404Z
UID:10000032-1786179600-1786183200@www.lakemonticellogolf.org
SUMMARY:Women's Get Golf Ready - Level 2
DESCRIPTION:Saturdays August 8-September 5 \n\n\n\nFeeling ready to take the next step? This five-week program is a level up from the Get Golf Ready Level 1 clinic. Designed to teach golf fundamentals and help advance on to future golf opportunities. Equipment Provided. \n\n\n\nEntry form HERE
URL:https://www.lakemonticellogolf.org/event/womens-get-golf-ready-level-2-4/
END:VEVENT
BEGIN:VEVENT
DTSTART;TZID=UTC:20260810T113000
DTEND;TZID=UTC:20260810T123000
DTSTAMP:20260422T134445
CREATED:20260130T143825Z
LAST-MODIFIED:20260210T155740Z
UID:10000021-1786361400-1786365000@www.lakemonticellogolf.org
SUMMARY:Project 99 - Break 100 Every time
DESCRIPTION:Break 100 on the golf course using Project 99 as your guide to achieving your goals. This program will teach you the key components needed to shave strokes off your score and build confidence in every part of your game. \n\n\n\n$99 per Student \n\n\n\nProject 99 (1)Download
URL:https://www.lakemonticellogolf.org/event/project-99-break-100-every-time/
LOCATION:Lake Monticello Golf Course\, 51 Bunker Blvd\, Palmyra\, Virginia\, 22963\, United States
END:VEVENT
BEGIN:VEVENT
DTSTART;TZID=UTC:20260822T083000
DTEND;TZID=UTC:20260823T143000
DTSTAMP:20260422T134445
CREATED:20260131T211007Z
LAST-MODIFIED:20260210T173748Z
UID:10000053-1787387400-1787495400@www.lakemonticellogolf.org
SUMMARY:Member - Member Championship
DESCRIPTION:Course closed from 8:00am – 12:30pm. Start time is 8:30am Saturday and Sunday. \n\n\n\nFormat: Four- Ball (better ball of 2) \n\n\n\nOpen to all LMOA property owners and Golf contract holders. \n\n\n\nEntry Form
URL:https://www.lakemonticellogolf.org/event/member-member-scramble/
LOCATION:Lake Monticello Golf Course\, 51 Bunker Blvd\, Palmyra\, Virginia\, 22963\, United States
END:VEVENT
END:VCALENDAR